BEGIN:VCALENDAR
VERSION:2.0
PRODID:https://fedsoc.org/events/2018-national-lawyers-convention
BEGIN:VEVENT
UID:60e239ac852c2
DTSTART:20181115T140000Z
SEQUENCE:0
TRANSP:OPAQUE
DTEND:20181118T000500Z
LOCATION:1127 Connecticut Avenue\, NW Washington DC 20036
SUMMARY:2018 National Lawyers Convention
CLASS:PUBLIC
X-ALT-DESC;FMTTYPE=text/html:Event: 2018 National Lawyers Convention\n\n Lo
 cation: 1127 Connecticut Avenue\, NW Washington DC 20036\n\n
DTSTAMP:20210704T184356Z
END:VEVENT
END:VCALENDAR