BEGIN:VCALENDAR
VERSION:2.0
PRODID:https://fedsoc.org/events/address-by-hon-robert-h-bork-archive-colle
 ction
BEGIN:VEVENT
UID:63a9e29455629
DTSTART:19880306T170000Z
SEQUENCE:0
TRANSP:OPAQUE
DTEND:19880306T180000Z
LOCATION:580 Massie Rd Charlottesville VA 22903
SUMMARY:Address by Hon. Robert H. Bork [Archive Collection]
CLASS:PUBLIC
X-ALT-DESC;FMTTYPE=text/html:Event: Address by Hon. Robert H. Bork [Archive
  Collection]\n\n Location: 580 Massie Rd Charlottesville VA 22903\n\n
DTSTAMP:20221226T130612Z
END:VEVENT
END:VCALENDAR