BEGIN:VCALENDAR
VERSION:2.0
PRODID:https://fedsoc.org/events/reception-with-senator-chuck-grassley
BEGIN:VEVENT
UID:63a9b40893674
DTSTART:20180611T213000Z
SEQUENCE:0
TRANSP:OPAQUE
DTEND:20180612T000000Z
LOCATION:300 New Jersey Ave NW Washington DC 20001
SUMMARY:Reception with Senator Chuck Grassley
CLASS:PUBLIC
X-ALT-DESC;FMTTYPE=text/html:Event: Reception with Senator Chuck Grassley\n
 \n Location: 300 New Jersey Ave NW Washington DC 20001\n\n
DTSTAMP:20221226T094736Z
END:VEVENT
END:VCALENDAR