BEGIN:VCALENDAR
VERSION:2.0
PRODID:https://fedsoc.org/events/reception-5
BEGIN:VEVENT
UID:63a82a52ac604
DTSTART:20180406T203015Z
SEQUENCE:0
TRANSP:OPAQUE
DTEND:20180406T213015Z
LOCATION:310 High St. Columbus OH 43215
SUMMARY:Reception
CLASS:PUBLIC
X-ALT-DESC;FMTTYPE=text/html:Event: Reception\n\n Location: 310 High St. Co
 lumbus OH 43215\n\n
DTSTAMP:20221225T054746Z
END:VEVENT
END:VCALENDAR