BEGIN:VCALENDAR
VERSION:2.0
PRODID:https://fedsoc.org/events/analyzing-ohio-s-judicial-system-and-the-o
 hio-supreme-court
BEGIN:VEVENT
UID:63a82a1bebd6f
DTSTART:20180406T191538Z
SEQUENCE:0
TRANSP:OPAQUE
DTEND:20180406T203038Z
LOCATION:310 High St. Columbus OH 43215
SUMMARY:Analyzing Ohio's Judicial System and the Ohio Supreme Court
CLASS:PUBLIC
X-ALT-DESC;FMTTYPE=text/html:Event: Analyzing Ohio's Judicial System and th
 e Ohio Supreme Court\n\n Location: 310 High St. Columbus OH 43215\n\n
DTSTAMP:20221225T054651Z
END:VEVENT
END:VCALENDAR