BEGIN:VCALENDAR
VERSION:2.0
PRODID:https://fedsoc.org/events/criminal-justice-reform-a-necessary-correc
 tion-or-a-dangerous-experiment
BEGIN:VEVENT
UID:63a82a7b329d7
DTSTART:20180406T174524Z
SEQUENCE:0
TRANSP:OPAQUE
DTEND:20180406T190024Z
LOCATION:310 High St. Columbus OH 43215
SUMMARY:Criminal Justice Reform: A Necessary Correction or a Dangerous Expe
 riment?
CLASS:PUBLIC
X-ALT-DESC;FMTTYPE=text/html:Event: Criminal Justice Reform: A Necessary Co
 rrection or a Dangerous Experiment?\n\n Location: 310 High St. Columbus OH
  43215\n\n
DTSTAMP:20221225T054827Z
END:VEVENT
END:VCALENDAR