BEGIN:VCALENDAR
VERSION:2.0
PRODID:https://fedsoc.org/events/lunch-discussion-janus-v-afscme
BEGIN:VEVENT
UID:63a82aaa0e413
DTSTART:20180406T161552Z
SEQUENCE:0
TRANSP:OPAQUE
DTEND:20180406T173039Z
LOCATION:310 High St. Columbus OH 43215
SUMMARY:Lunch Discussion: Janus v. AFSCME
CLASS:PUBLIC
X-ALT-DESC;FMTTYPE=text/html:Event: Lunch Discussion: Janus v. AFSCME\n\n L
 ocation: 310 High St. Columbus OH 43215\n\n
DTSTAMP:20221225T054914Z
END:VEVENT
END:VCALENDAR