BEGIN:VCALENDAR
VERSION:2.0
PRODID:https://fedsoc.org/events/introduction-to-originalism-and-federalism
 -where-are-the-courts-heading
BEGIN:VEVENT
UID:63a82a805d18e
DTSTART:20180406T151013Z
SEQUENCE:0
TRANSP:OPAQUE
DTEND:20180406T161513Z
LOCATION:310 High St. Columbus OH 43215
SUMMARY:Introduction to Originalism and Federalism: Where Are the Courts He
 ading?
CLASS:PUBLIC
X-ALT-DESC;FMTTYPE=text/html:Event: Introduction to Originalism and Federal
 ism: Where Are the Courts Heading?\n\n Location: 310 High St. Columbus OH 
 43215\n\n
DTSTAMP:20221225T054832Z
END:VEVENT
END:VCALENDAR