BEGIN:VCALENDAR
VERSION:2.0
PRODID:https://fedsoc.org/events/opening-remarks
BEGIN:VEVENT
UID:63a82a7633e32
DTSTART:20180406T150023Z
SEQUENCE:0
TRANSP:OPAQUE
DTEND:20180406T151023Z
LOCATION:310 High St. Columbus OH 43215
SUMMARY:Opening Remarks by Chad A. Readler
CLASS:PUBLIC
X-ALT-DESC;FMTTYPE=text/html:Event: Opening Remarks by Chad A. Readler\n\n 
 Location: 310 High St. Columbus OH 43215\n\n
DTSTAMP:20221225T054822Z
END:VEVENT
END:VCALENDAR