BEGIN:VCALENDAR
VERSION:2.0
PRODID:https://fedsoc.org/events/2018-ohio-lawyers-chapters-conference
BEGIN:VEVENT
UID:63a82a861aff6
DTSTART:20180406T143025Z
SEQUENCE:0
TRANSP:OPAQUE
DTEND:20180406T213500Z
LOCATION:310 High St. Columbus OH 43215
SUMMARY:2018 Ohio Lawyers Chapters Conference
CLASS:PUBLIC
X-ALT-DESC;FMTTYPE=text/html:Event: 2018 Ohio Lawyers Chapters Conference\n
 \n Location: 310 High St. Columbus OH 43215\n\n
DTSTAMP:20221225T054838Z
END:VEVENT
END:VCALENDAR