BEGIN:VCALENDAR
VERSION:2.0
PRODID:https://fedsoc.org/events/reception-4
BEGIN:VEVENT
UID:63a9a11f6f995
DTSTART:20180322T210007Z
SEQUENCE:0
TRANSP:OPAQUE
DTEND:20180322T220014Z
LOCATION:First St NE Washington DC 20515
SUMMARY:Reception
CLASS:PUBLIC
X-ALT-DESC;FMTTYPE=text/html:Event: Reception\n\n Location: First St NE Was
 hington DC 20515\n\n
DTSTAMP:20221226T082655Z
END:VEVENT
END:VCALENDAR