BEGIN:VCALENDAR
VERSION:2.0
PRODID:https://fedsoc.org/events/panel-iii-congressional-reflections-and-re
 commendations
BEGIN:VEVENT
UID:63a9a145ae3cc
DTSTART:20180322T191512Z
SEQUENCE:0
TRANSP:OPAQUE
DTEND:20180322T210020Z
LOCATION:First St NE Washington DC 20515
SUMMARY:Congressional Reflections and Recommendations
CLASS:PUBLIC
X-ALT-DESC;FMTTYPE=text/html:Event: Congressional Reflections and Recommend
 ations\n\n Location: First St NE Washington DC 20515\n\n
DTSTAMP:20221226T082733Z
END:VEVENT
END:VCALENDAR