BEGIN:VCALENDAR
VERSION:2.0
PRODID:https://fedsoc.org/events/afternoon-address-article-i-reform-and-the
 -global-trade-accountability-act
BEGIN:VEVENT
UID:63a9a094dd9f1
DTSTART:20180322T183033Z
SEQUENCE:0
TRANSP:OPAQUE
DTEND:20180322T185540Z
LOCATION:First St NE Washington DC 20515
SUMMARY:Article I Reform and the Global Trade Accountability Act
CLASS:PUBLIC
X-ALT-DESC;FMTTYPE=text/html:Event: Article I Reform and the Global Trade A
 ccountability Act\n\n Location: First St NE Washington DC 20515\n\n
DTSTAMP:20221226T082436Z
END:VEVENT
END:VCALENDAR