BEGIN:VCALENDAR
VERSION:2.0
PRODID:https://fedsoc.org/events/panel-ii-senate-reform-proposals
BEGIN:VEVENT
UID:63a9a0ed45b70
DTSTART:20180322T170505Z
SEQUENCE:0
TRANSP:OPAQUE
DTEND:20180322T182513Z
LOCATION:First St NE Washington DC 20515
SUMMARY:Senate Reform Proposals
CLASS:PUBLIC
X-ALT-DESC;FMTTYPE=text/html:Event: Senate Reform Proposals\n\n Location: F
 irst St NE Washington DC 20515\n\n
DTSTAMP:20221226T082605Z
END:VEVENT
END:VCALENDAR