BEGIN:VCALENDAR
VERSION:2.0
PRODID:https://fedsoc.org/events/lunch-address-a-conversation-with-hon-jon-
 kyl
BEGIN:VEVENT
UID:63a9a0f320c83
DTSTART:20180322T161058Z
SEQUENCE:0
TRANSP:OPAQUE
DTEND:20180322T165500Z
LOCATION:First St NE Washington DC 20515
SUMMARY:A Conversation with Hon. Jon Kyl
CLASS:PUBLIC
X-ALT-DESC;FMTTYPE=text/html:Event: A Conversation with Hon. Jon Kyl\n\n Lo
 cation: First St NE Washington DC 20515\n\n
DTSTAMP:20221226T082611Z
END:VEVENT
END:VCALENDAR