BEGIN:VCALENDAR
VERSION:2.0
PRODID:https://fedsoc.org/events/morning-address-senate-rules-budget-and-ap
 propriations-reform
BEGIN:VEVENT
UID:63a9a13a2c4f1
DTSTART:20180322T154006Z
SEQUENCE:0
TRANSP:OPAQUE
DTEND:20180322T160006Z
LOCATION:First St NE Washington DC 20515
SUMMARY:Senate Rules\, Budget\, and Appropriations Reform
CLASS:PUBLIC
X-ALT-DESC;FMTTYPE=text/html:Event: Senate Rules\, Budget\, and Appropriati
 ons Reform\n\n Location: First St NE Washington DC 20515\n\n
DTSTAMP:20221226T082722Z
END:VEVENT
END:VCALENDAR