BEGIN:VCALENDAR
VERSION:2.0
PRODID:https://fedsoc.org/events/panel-i-house-reform-proposals
BEGIN:VEVENT
UID:63a9a1400047f
DTSTART:20180322T140046Z
SEQUENCE:0
TRANSP:OPAQUE
DTEND:20180322T153046Z
LOCATION:First St NE Washington WA 20515
SUMMARY:House Reform Proposals
CLASS:PUBLIC
X-ALT-DESC;FMTTYPE=text/html:Event: House Reform Proposals\n\n Location: Fi
 rst St NE Washington WA 20515\n\n
DTSTAMP:20221226T082728Z
END:VEVENT
END:VCALENDAR