BEGIN:VCALENDAR
VERSION:2.0
PRODID:https://fedsoc.org/events/doors-open-breakfast
BEGIN:VEVENT
UID:63a9a0f838687
DTSTART:20180322T130003Z
SEQUENCE:0
TRANSP:OPAQUE
DTEND:20180322T135003Z
LOCATION:First St NE Washington DC 20515
SUMMARY:Doors Open/Breakfast
CLASS:PUBLIC
X-ALT-DESC;FMTTYPE=text/html:Event: Doors Open/Breakfast\n\n Location: Firs
 t St NE Washington DC 20515\n\n
DTSTAMP:20221226T082616Z
END:VEVENT
END:VCALENDAR