BEGIN:VCALENDAR
VERSION:2.0
PRODID:https://fedsoc.org/events/restoring-article-i
BEGIN:VEVENT
UID:63a9a08a56075
DTSTART:20180322T130031Z
SEQUENCE:0
TRANSP:OPAQUE
DTEND:20180322T220500Z
LOCATION:First St NE Washington DC 20515
SUMMARY:Restoring Article I
CLASS:PUBLIC
X-ALT-DESC;FMTTYPE=text/html:Event: Restoring Article I\n\n Location: First
  St NE Washington DC 20515\n\n
DTSTAMP:20221226T082426Z
END:VEVENT
END:VCALENDAR