BEGIN:VCALENDAR
VERSION:2.0
PRODID:https://fedsoc.org/events/creative-regulators-and-environmental-prot
 ection
BEGIN:VEVENT
UID:63a7b528783ec
DTSTART:20180202T204511Z
SEQUENCE:0
TRANSP:OPAQUE
DTEND:20180202T221511Z
LOCATION:3351 Fairfax Drive Arlington VA 22201
SUMMARY:Creative Regulators and Environmental Protection
CLASS:PUBLIC
X-ALT-DESC;FMTTYPE=text/html:Event: Creative Regulators and Environmental P
 rotection\n\n Location: 3351 Fairfax Drive Arlington VA 22201\n\n
DTSTAMP:20221224T212752Z
END:VEVENT
END:VCALENDAR