BEGIN:VCALENDAR
VERSION:2.0
PRODID:https://fedsoc.org/events/regulating-the-modern-workforce
BEGIN:VEVENT
UID:63a7b57845b24
DTSTART:20180202T190015Z
SEQUENCE:0
TRANSP:OPAQUE
DTEND:20180202T203015Z
LOCATION:3351 Fairfax Drive Arlington VA 22201
SUMMARY:Regulating the Modern Workforce
CLASS:PUBLIC
X-ALT-DESC;FMTTYPE=text/html:Event: Regulating the Modern Workforce\n\n Loc
 ation: 3351 Fairfax Drive Arlington VA 22201\n\n
DTSTAMP:20221224T212912Z
END:VEVENT
END:VCALENDAR