BEGIN:VCALENDAR
VERSION:2.0
PRODID:https://fedsoc.org/events/luncheon-keynote-address-by-philip-k-howar
 d
BEGIN:VEVENT
UID:63a7b5a2a6ecf
DTSTART:20180202T173059Z
SEQUENCE:0
TRANSP:OPAQUE
DTEND:20180202T190059Z
LOCATION:3351 Fairfax Drive Arlington VA 22201
SUMMARY:Luncheon Keynote Address by Philip K. Howard
CLASS:PUBLIC
X-ALT-DESC;FMTTYPE=text/html:Event: Luncheon Keynote Address by Philip K. H
 oward\n\n Location: 3351 Fairfax Drive Arlington VA 22201\n\n
DTSTAMP:20221224T212954Z
END:VEVENT
END:VCALENDAR