BEGIN:VCALENDAR
VERSION:2.0
PRODID:https://fedsoc.org/events/21st-century-business-models-meet-20th-cen
 tury-regulation
BEGIN:VEVENT
UID:63a7b60891832
DTSTART:20180202T154543Z
SEQUENCE:0
TRANSP:OPAQUE
DTEND:20180202T171543Z
LOCATION:3351 Fairfax Drive Arlington VA 22201
SUMMARY:21st Century Business Models Meet 20th Century Regulation
CLASS:PUBLIC
X-ALT-DESC;FMTTYPE=text/html:Event: 21st Century Business Models Meet 20th 
 Century Regulation\n\n Location: 3351 Fairfax Drive Arlington VA 22201\n\n
DTSTAMP:20221224T213136Z
END:VEVENT
END:VCALENDAR