BEGIN:VCALENDAR
VERSION:2.0
PRODID:https://fedsoc.org/events/financial-innovation-and-innovative-financ
 ial-regulators
BEGIN:VEVENT
UID:63a7b59d9dded
DTSTART:20180202T140000Z
SEQUENCE:0
TRANSP:OPAQUE
DTEND:20180202T153037Z
LOCATION:3351 Fairfax Drive Arlington VA 22201
SUMMARY:Financial Innovation and Innovative Financial Regulators
CLASS:PUBLIC
X-ALT-DESC;FMTTYPE=text/html:Event: Financial Innovation and Innovative Fin
 ancial Regulators\n\n Location: 3351 Fairfax Drive Arlington VA 22201\n\n
DTSTAMP:20221224T212949Z
END:VEVENT
END:VCALENDAR