BEGIN:VCALENDAR
VERSION:2.0
PRODID:https://fedsoc.org/events/14th-annual-symposium-of-the-journal-of-la
 w-economics-policy
BEGIN:VEVENT
UID:63a7b603296d4
DTSTART:20180202T130029Z
SEQUENCE:0
TRANSP:OPAQUE
DTEND:20180202T233000Z
LOCATION:3351 Fairfax Drive Arlington VA 22201
SUMMARY:14th Annual Symposium of the Journal of Law\, Economics & Policy
CLASS:PUBLIC
X-ALT-DESC;FMTTYPE=text/html:Event: 14th Annual Symposium of the Journal of
  Law\, Economics & Policy\n\n Location: 3351 Fairfax Drive Arlington VA 22
 201\n\n
DTSTAMP:20221224T213131Z
END:VEVENT
END:VCALENDAR