BEGIN:VCALENDAR
VERSION:2.0
PRODID:https://fedsoc.org/events/the-free-speech-vernacular-1
BEGIN:VEVENT
UID:63a990aee5f34
DTSTART:20180301T180000Z
SEQUENCE:0
TRANSP:OPAQUE
DTEND:20180301T191500Z
LOCATION:1900 University Ave\, M3 Level Austin TX 78705
SUMMARY:The Free Speech Vernacular
CLASS:PUBLIC
X-ALT-DESC;FMTTYPE=text/html:Event: The Free Speech Vernacular\n\n Location
 : 1900 University Ave\, M3 Level Austin TX 78705\n\n
DTSTAMP:20221226T071646Z
END:VEVENT
END:VCALENDAR