BEGIN:VCALENDAR
VERSION:2.0
PRODID:https://fedsoc.org/events/closing-reception-1
BEGIN:VEVENT
UID:63a789b2ca8c7
DTSTART:20180128T003050Z
SEQUENCE:0
TRANSP:OPAQUE
DTEND:20180128T013050Z
LOCATION:40 Presidential Drive Simi Valley CA 93065
SUMMARY:Closing Reception
CLASS:PUBLIC
X-ALT-DESC;FMTTYPE=text/html:Event: Closing Reception\n\n Location: 40 Pres
 idential Drive Simi Valley CA 93065\n\n
DTSTAMP:20221224T182226Z
END:VEVENT
END:VCALENDAR