BEGIN:VCALENDAR
VERSION:2.0
PRODID:https://fedsoc.org/events/library-tours
BEGIN:VEVENT
UID:63a789eb89d08
DTSTART:20180127T233013Z
SEQUENCE:0
TRANSP:OPAQUE
DTEND:20180128T003013Z
LOCATION:40 Presidential Drive Simi Valley CA 93065
SUMMARY:Library Tours
CLASS:PUBLIC
X-ALT-DESC;FMTTYPE=text/html:Event: Library Tours\n\n Location: 40 Presiden
 tial Drive Simi Valley CA 93065\n\n
DTSTAMP:20221224T182323Z
END:VEVENT
END:VCALENDAR