BEGIN:VCALENDAR
VERSION:2.0
PRODID:https://fedsoc.org/events/free-speech-absolutism-have-we-gone-too-fa
 r
BEGIN:VEVENT
UID:63a789e659787
DTSTART:20180127T220002Z
SEQUENCE:0
TRANSP:OPAQUE
DTEND:20180127T233002Z
LOCATION:40 Presidential Drive Simi Valley CA 93065
SUMMARY:Free Speech Absolutism: Have We Gone Too Far?
CLASS:PUBLIC
X-ALT-DESC;FMTTYPE=text/html:Event: Free Speech Absolutism: Have We Gone To
 o Far?\n\n Location: 40 Presidential Drive Simi Valley CA 93065\n\n
DTSTAMP:20221224T182318Z
END:VEVENT
END:VCALENDAR