BEGIN:VCALENDAR
VERSION:2.0
PRODID:https://fedsoc.org/events/donor-privacy-and-campaign-related-speech
BEGIN:VEVENT
UID:63a78a135ece8
DTSTART:20180127T200052Z
SEQUENCE:0
TRANSP:OPAQUE
DTEND:20180127T214552Z
LOCATION:40 Presidential Drive Simi Valley CA 93065
SUMMARY:Donor privacy and Campaign-Related Speech
CLASS:PUBLIC
X-ALT-DESC;FMTTYPE=text/html:Event: Donor privacy and Campaign-Related Spee
 ch\n\n Location: 40 Presidential Drive Simi Valley CA 93065\n\n
DTSTAMP:20221224T182403Z
END:VEVENT
END:VCALENDAR