BEGIN:VCALENDAR
VERSION:2.0
PRODID:https://fedsoc.org/events/the-first-amendment-and-campus-speech
BEGIN:VEVENT
UID:63a7893ddb82b
DTSTART:20180127T183000Z
SEQUENCE:0
TRANSP:OPAQUE
DTEND:20180127T200000Z
LOCATION:40 Presidential Drive Simi Valley CA 93065
SUMMARY:The First Amendment and Campus Speech
CLASS:PUBLIC
X-ALT-DESC;FMTTYPE=text/html:Event: The First Amendment and Campus Speech\n
 \n Location: 40 Presidential Drive Simi Valley CA 93065\n\n
DTSTAMP:20221224T182029Z
END:VEVENT
END:VCALENDAR