BEGIN:VCALENDAR
VERSION:2.0
PRODID:https://fedsoc.org/events/the-first-amendment-and-commercial-economi
 c-speech
BEGIN:VEVENT
UID:63a78a0dba943
DTSTART:20180127T170029Z
SEQUENCE:0
TRANSP:OPAQUE
DTEND:20180127T182029Z
LOCATION:40 Presidential Drive Simi Valley CA 93065
SUMMARY:The First Amendment and Commercial/Economic Speech
CLASS:PUBLIC
X-ALT-DESC;FMTTYPE=text/html:Event: The First Amendment and Commercial/Econ
 omic Speech\n\n Location: 40 Presidential Drive Simi Valley CA 93065\n\n
DTSTAMP:20221224T182357Z
END:VEVENT
END:VCALENDAR