BEGIN:VCALENDAR
VERSION:2.0
PRODID:https://fedsoc.org/events/2018-annual-western-chapters-conference
BEGIN:VEVENT
UID:63a789387548c
DTSTART:20180127T170004Z
SEQUENCE:0
TRANSP:OPAQUE
DTEND:20180128T020000Z
LOCATION:40 Presidential Drive Simi Valley CA 93065
SUMMARY:2018 Annual Western Chapters Conference
CLASS:PUBLIC
X-ALT-DESC;FMTTYPE=text/html:Event: 2018 Annual Western Chapters Conference
 \n\n Location: 40 Presidential Drive Simi Valley CA 93065\n\n
DTSTAMP:20221224T182024Z
END:VEVENT
END:VCALENDAR