BEGIN:VCALENDAR
VERSION:2.0
PRODID:https://fedsoc.org/events/the-philosophic-fight-for-the-future-of-am
 erica
BEGIN:VEVENT
UID:63a9e92c2f720
DTSTART:20171003T154551Z
SEQUENCE:0
TRANSP:OPAQUE
DTEND:20171003T170051Z
LOCATION:217 East Edenton Street Raleigh NC 27601
SUMMARY:The Philosophic Fight for the Future of America
CLASS:PUBLIC
X-ALT-DESC;FMTTYPE=text/html:Event: The Philosophic Fight for the Future of
  America\n\n Location: 217 East Edenton Street Raleigh NC 27601\n\n
DTSTAMP:20221226T133420Z
END:VEVENT
END:VCALENDAR