BEGIN:VCALENDAR
VERSION:2.0
PRODID:https://fedsoc.org/events/income-inequality-is-it-fair-or-unfair
BEGIN:VEVENT
UID:63a7a2bb72bf0
DTSTART:20170927T223000Z
SEQUENCE:0
TRANSP:OPAQUE
DTEND:20170928T000000Z
LOCATION:127 Wall St New Haven CT 06511
SUMMARY:Income Inequality: Is It Fair or Unfair?
CLASS:PUBLIC
X-ALT-DESC;FMTTYPE=text/html:Event: Income Inequality: Is It Fair or Unfair
 ?\n\n Location: 127 Wall St New Haven CT 06511\n\n
DTSTAMP:20221224T200915Z
END:VEVENT
END:VCALENDAR