BEGIN:VCALENDAR
VERSION:2.0
PRODID:https://fedsoc.org/events/funding-the-government-the-budget-process-
 and-omnibus-spending-bills
BEGIN:VEVENT
UID:63a8574f71a64
DTSTART:20170922T160000Z
SEQUENCE:0
TRANSP:OPAQUE
DTEND:20170922T173000Z
LOCATION:45 Independence Ave SW Washington DC 20515
SUMMARY:Funding the Government: The Budget Process and Omnibus Spending Bil
 ls
CLASS:PUBLIC
X-ALT-DESC;FMTTYPE=text/html:Event: Funding the Government: The Budget Proc
 ess and Omnibus Spending Bills\n\n Location: 45 Independence Ave SW Washin
 gton DC 20515\n\n
DTSTAMP:20221225T085943Z
END:VEVENT
END:VCALENDAR