BEGIN:VCALENDAR
VERSION:2.0
PRODID:https://fedsoc.org/events/the-elimination-of-conscience-clauses-an-a
 ssault-on-religious-liberty
BEGIN:VEVENT
UID:63a801e860ece
DTSTART:20090921T220000Z
SEQUENCE:0
TRANSP:OPAQUE
DTEND:20090922T000000Z
LOCATION:140 West 62nd Street New York NY 10023
SUMMARY:The Elimination of Conscience Clauses: An Assault on Religious Libe
 rty?
CLASS:PUBLIC
X-ALT-DESC;FMTTYPE=text/html:Event: The Elimination of Conscience Clauses: 
 An Assault on Religious Liberty?\n\n Location: 140 West 62nd Street New Yo
 rk NY 10023\n\n
DTSTAMP:20221225T025520Z
END:VEVENT
END:VCALENDAR