BEGIN:VCALENDAR
VERSION:2.0
PRODID:https://fedsoc.org/events/we-still-hold-these-truths-self-government
 -the-founders-constitution-4
BEGIN:VEVENT
UID:63a99ba97df23
DTSTART:20100302T173000Z
SEQUENCE:0
TRANSP:OPAQUE
DTEND:20100302T185000Z
LOCATION:150 W 62nd St New York NY 10023
SUMMARY:We STILL Hold These Truths: Self-Government & the Founders' Constit
 ution
CLASS:PUBLIC
X-ALT-DESC;FMTTYPE=text/html:Event: We STILL Hold These Truths: Self-Govern
 ment & the Founders' Constitution\n\n Location: 150 W 62nd St New York NY 
 10023\n\n
DTSTAMP:20221226T080337Z
END:VEVENT
END:VCALENDAR