BEGIN:VCALENDAR
VERSION:2.0
PRODID:https://fedsoc.org/events/judge-stephen-murphy
BEGIN:VEVENT
UID:60e239a2ae8f1
DTSTART:20101028T040000Z
SEQUENCE:0
TRANSP:OPAQUE
DTEND:20101028T040000Z
LOCATION:235 14th Street Toledo OH 43604
SUMMARY:Federalism and the Separation of Powers
CLASS:PUBLIC
X-ALT-DESC;FMTTYPE=text/html:Event: Federalism and the Separation of Powers
 \n\n Location: 235 14th Street Toledo OH 43604\n\n
DTSTAMP:20210704T184346Z
END:VEVENT
END:VCALENDAR