BEGIN:VCALENDAR
VERSION:2.0
PRODID:https://fedsoc.org/events/changing-the-federal-rules-of-civil-proced
 ure-has-the-time-come
BEGIN:VEVENT
UID:63a9ba64ccc28
DTSTART:20101209T170000Z
SEQUENCE:0
TRANSP:OPAQUE
DTEND:20101209T190000Z
LOCATION:529 14th Street\, N.W. Washington DC 20054
SUMMARY:Changing the Federal Rules of Civil Procedure: Has the Time Come?
CLASS:PUBLIC
X-ALT-DESC;FMTTYPE=text/html:Event: Changing the Federal Rules of Civil Pro
 cedure: Has the Time Come?\n\n Location: 529 14th Street\, N.W. Washington
  DC 20054\n\n
DTSTAMP:20221226T101444Z
END:VEVENT
END:VCALENDAR