BEGIN:VCALENDAR
VERSION:2.0
PRODID:https://fedsoc.org/events/the-future-of-regulatory-review
BEGIN:VEVENT
UID:63aa0988baf4f
DTSTART:20110321T160000Z
SEQUENCE:0
TRANSP:OPAQUE
DTEND:20110321T180000Z
LOCATION:529 14th St. NW Washington DC 20045
SUMMARY:The Future of Regulatory Review
CLASS:PUBLIC
X-ALT-DESC;FMTTYPE=text/html:Event: The Future of Regulatory Review\n\n Loc
 ation: 529 14th St. NW Washington DC 20045\n\n
DTSTAMP:20221226T155224Z
END:VEVENT
END:VCALENDAR