BEGIN:VCALENDAR
VERSION:2.0
PRODID:https://fedsoc.org/events/new-conscience-regulations-from-the-depart
 ment-of-health-human-services-do-they-strike-the-right-balance-between-con
 science-and-the-medical-profession
BEGIN:VEVENT
UID:63a9c59b03d2b
DTSTART:20110414T163000Z
SEQUENCE:0
TRANSP:OPAQUE
DTEND:20110414T180000Z
LOCATION:600 New Jersey Avenue\, N.W. Washington DC 20001
SUMMARY:New Conscience Regulations from the Department of Health & Human Se
 rvices: Do They Strike the Right Balance Between Conscience and the Medica
 l Profession?
CLASS:PUBLIC
X-ALT-DESC;FMTTYPE=text/html:Event: New Conscience Regulations from the Dep
 artment of Health & Human Services: Do They Strike the Right Balance Betwe
 en Conscience and the Medical Profession?\n\n Location: 600 New Jersey Ave
 nue\, N.W. Washington DC 20001\n\n
DTSTAMP:20221226T110235Z
END:VEVENT
END:VCALENDAR