BEGIN:VCALENDAR
VERSION:2.0
PRODID:https://fedsoc.org/events/supreme-court-preview-what-is-in-store-for
 -october-term-2011
BEGIN:VEVENT
UID:63a9c5bde7c38
DTSTART:20110927T180000Z
SEQUENCE:0
TRANSP:OPAQUE
DTEND:20110927T203000Z
LOCATION:529 14th Street NW Washington DC 20045
SUMMARY:Supreme Court Preview: What Is in Store for October Term 2011?
CLASS:PUBLIC
X-ALT-DESC;FMTTYPE=text/html:Event: Supreme Court Preview: What Is in Store
  for October Term 2011?\n\n Location: 529 14th Street NW Washington DC 200
 45\n\n
DTSTAMP:20221226T110309Z
END:VEVENT
END:VCALENDAR