BEGIN:VCALENDAR
VERSION:2.0
PRODID:https://fedsoc.org/events/voter-identification-and-the-right-to-vote
BEGIN:VEVENT
UID:63a7b002a9031
DTSTART:20120229T230000Z
SEQUENCE:0
TRANSP:OPAQUE
DTEND:20120301T000000Z
LOCATION:625 East Court Avenue Des Moines IA 50309
SUMMARY:Voter Identification and the Right to Vote
CLASS:PUBLIC
X-ALT-DESC;FMTTYPE=text/html:Event: Voter Identification and the Right to V
 ote\n\n Location: 625 East Court Avenue Des Moines IA 50309\n\n
DTSTAMP:20221224T210554Z
END:VEVENT
END:VCALENDAR