BEGIN:VCALENDAR
VERSION:2.0
PRODID:https://fedsoc.org/events/obamacare-in-the-supreme-court
BEGIN:VEVENT
UID:63a9ada4dc5f0
DTSTART:20120320T160000Z
SEQUENCE:0
TRANSP:OPAQUE
DTEND:20120320T180000Z
LOCATION:529 14th St. NW Washington DC 20045
SUMMARY:Obamacare in the Supreme Court
CLASS:PUBLIC
X-ALT-DESC;FMTTYPE=text/html:Event: Obamacare in the Supreme Court\n\n Loca
 tion: 529 14th St. NW Washington DC 20045\n\n
DTSTAMP:20221226T092020Z
END:VEVENT
END:VCALENDAR