BEGIN:VCALENDAR
VERSION:2.0
PRODID:https://fedsoc.org/events/when-states-go-broke
BEGIN:VEVENT
UID:63a9a5050a1db
DTSTART:20121108T213000Z
SEQUENCE:0
TRANSP:OPAQUE
DTEND:20121108T230000Z
LOCATION:1150 Seventeenth Street\, NW Washington DC 20036
SUMMARY:When States Go Broke
CLASS:PUBLIC
X-ALT-DESC;FMTTYPE=text/html:Event: When States Go Broke\n\n Location: 1150
  Seventeenth Street\, NW Washington DC 20036\n\n
DTSTAMP:20221226T084333Z
END:VEVENT
END:VCALENDAR