BEGIN:VCALENDAR
VERSION:2.0
PRODID:https://fedsoc.org/events/supreme-court-preview-what-is-in-store-for
 -october-term-2013
BEGIN:VEVENT
UID:63a7870e8b9e8
DTSTART:20131002T160000Z
SEQUENCE:0
TRANSP:OPAQUE
DTEND:20131002T190000Z
LOCATION:529 14th Street NW Washington DC 20045
SUMMARY:Supreme Court Preview: What Is in Store for October Term 2013?
CLASS:PUBLIC
X-ALT-DESC;FMTTYPE=text/html:Event: Supreme Court Preview: What Is in Store
  for October Term 2013?\n\n Location: 529 14th Street NW Washington DC 200
 45\n\n
DTSTAMP:20221224T181110Z
END:VEVENT
END:VCALENDAR