BEGIN:VCALENDAR
VERSION:2.0
PRODID:https://fedsoc.org/events/municipal-bankruptcy-and-pension-reform-a-
 way-out
BEGIN:VEVENT
UID:63a79121b833f
DTSTART:20131011T160000Z
SEQUENCE:0
TRANSP:OPAQUE
DTEND:20131011T180000Z
LOCATION:529 14th Street NW Washington DC 20045
SUMMARY:Municipal Bankruptcy and Pension Reform: A Way Out?
CLASS:PUBLIC
X-ALT-DESC;FMTTYPE=text/html:Event: Municipal Bankruptcy and Pension Reform
 : A Way Out?\n\n Location: 529 14th Street NW Washington DC 20045\n\n
DTSTAMP:20221224T185409Z
END:VEVENT
END:VCALENDAR