BEGIN:VCALENDAR
VERSION:2.0
PRODID:https://fedsoc.org/events/marijuana-and-the-states-how-should-federa
 lism-principles-inform-the-federal-government-s-response-to-state-marijuan
 a-initiatives-2
BEGIN:VEVENT
UID:63a8601d9995f
DTSTART:20131203T170000Z
SEQUENCE:0
TRANSP:OPAQUE
DTEND:20131203T190000Z
LOCATION:529 14th Street NW Washington DC 20045
SUMMARY:Marijuana and the States: How Should Federalism Principles Inform t
 he Federal Government'’s Response to State Marijuana Initiatives?
CLASS:PUBLIC
X-ALT-DESC;FMTTYPE=text/html:Event: Marijuana and the States: How Should Fe
 deralism Principles Inform the Federal Government'’s Response to State M
 arijuana Initiatives?\n\n Location: 529 14th Street NW Washington DC 20045
 \n\n
DTSTAMP:20221225T093717Z
END:VEVENT
END:VCALENDAR