BEGIN:VCALENDAR
VERSION:2.0
PRODID:https://fedsoc.org/events/the-twilight-of-race-based-preferences-in-
 college-admissions
BEGIN:VEVENT
UID:63a7afcfb387a
DTSTART:20140212T223000Z
SEQUENCE:0
TRANSP:OPAQUE
DTEND:20140213T003000Z
LOCATION:300 S. Capital Avenue Lansing MI 48933
SUMMARY:The Twilight of Race-Based Preferences in College Admissions
CLASS:PUBLIC
X-ALT-DESC;FMTTYPE=text/html:Event: The Twilight of Race-Based Preferences 
 in College Admissions\n\n Location: 300 S. Capital Avenue Lansing MI 48933
 \n\n
DTSTAMP:20221224T210503Z
END:VEVENT
END:VCALENDAR